BEGIN:VCALENDAR
VERSION:2.0
PRODID:-//Markus Kindergarten - ECPv6.15.20//NONSGML v1.0//EN
CALSCALE:GREGORIAN
METHOD:PUBLISH
X-ORIGINAL-URL:https://ev-markus-kita.de
X-WR-CALDESC:Veranstaltungen für Markus Kindergarten
REFRESH-INTERVAL;VALUE=DURATION:PT1H
X-Robots-Tag:noindex
X-PUBLISHED-TTL:PT1H
BEGIN:VTIMEZONE
TZID:America/Los_Angeles
BEGIN:DAYLIGHT
TZOFFSETFROM:-0800
TZOFFSETTO:-0700
TZNAME:PDT
DTSTART:20250309T100000
END:DAYLIGHT
BEGIN:STANDARD
TZOFFSETFROM:-0700
TZOFFSETTO:-0800
TZNAME:PST
DTSTART:20251102T090000
END:STANDARD
BEGIN:DAYLIGHT
TZOFFSETFROM:-0800
TZOFFSETTO:-0700
TZNAME:PDT
DTSTART:20260308T100000
END:DAYLIGHT
BEGIN:STANDARD
TZOFFSETFROM:-0700
TZOFFSETTO:-0800
TZNAME:PST
DTSTART:20261101T090000
END:STANDARD
BEGIN:DAYLIGHT
TZOFFSETFROM:-0800
TZOFFSETTO:-0700
TZNAME:PDT
DTSTART:20270314T100000
END:DAYLIGHT
BEGIN:STANDARD
TZOFFSETFROM:-0700
TZOFFSETTO:-0800
TZNAME:PST
DTSTART:20271107T090000
END:STANDARD
END:VTIMEZONE
BEGIN:VEVENT
DTSTART;TZID=America/Los_Angeles:20260701T100000
DTEND;TZID=America/Los_Angeles:20260701T120000
DTSTAMP:20260421T031750
CREATED:20260409T074520Z
LAST-MODIFIED:20260409T074520Z
UID:850-1782900000-1782907200@ev-markus-kita.de
SUMMARY:Kennlerntermin für die Schulanfänger 2026
DESCRIPTION:In der Josef-Rings-Schule
URL:https://ev-markus-kita.de/event/kennlerntermin-fuer-die-schulanfaenger-2026/
END:VEVENT
BEGIN:VEVENT
DTSTART;TZID=America/Los_Angeles:20260707T093000
DTEND;TZID=America/Los_Angeles:20260707T100000
DTSTAMP:20260421T031750
CREATED:20260409T074637Z
LAST-MODIFIED:20260409T074637Z
UID:852-1783416600-1783418400@ev-markus-kita.de
SUMMARY:Andacht
DESCRIPTION:Andacht mit Pastor Sieblod
URL:https://ev-markus-kita.de/event/andacht-3/
END:VEVENT
BEGIN:VEVENT
DTSTART;TZID=America/Los_Angeles:20260708T143000
DTEND;TZID=America/Los_Angeles:20260708T163000
DTSTAMP:20260421T031750
CREATED:20260409T074823Z
LAST-MODIFIED:20260409T074823Z
UID:854-1783521000-1783528200@ev-markus-kita.de
SUMMARY:Verabschiedung der Schulkinder 2026
DESCRIPTION:Wir Verabschieden die Kinder die dieses Jahr in die Schule gehen.
URL:https://ev-markus-kita.de/event/verabschiedung-der-schulkinder-2026/
END:VEVENT
BEGIN:VEVENT
DTSTART;TZID=America/Los_Angeles:20260720T080000
DTEND;TZID=America/Los_Angeles:20260807T170000
DTSTAMP:20260421T031750
CREATED:20260409T074925Z
LAST-MODIFIED:20260409T074925Z
UID:856-1784534400-1786122000@ev-markus-kita.de
SUMMARY:Betriebsferien 2026
DESCRIPTION:
URL:https://ev-markus-kita.de/event/betriebsferien-2026/
END:VEVENT
END:VCALENDAR