BEGIN:VCALENDAR
VERSION:2.0
PRODID:-//Markus Kindergarten - ECPv6.15.20//NONSGML v1.0//EN
CALSCALE:GREGORIAN
METHOD:PUBLISH
X-WR-CALNAME:Markus Kindergarten
X-ORIGINAL-URL:https://ev-markus-kita.de
X-WR-CALDESC:Veranstaltungen für Markus Kindergarten
REFRESH-INTERVAL;VALUE=DURATION:PT1H
X-Robots-Tag:noindex
X-PUBLISHED-TTL:PT1H
BEGIN:VTIMEZONE
TZID:America/Los_Angeles
BEGIN:DAYLIGHT
TZOFFSETFROM:-0800
TZOFFSETTO:-0700
TZNAME:PDT
DTSTART:20250309T100000
END:DAYLIGHT
BEGIN:STANDARD
TZOFFSETFROM:-0700
TZOFFSETTO:-0800
TZNAME:PST
DTSTART:20251102T090000
END:STANDARD
BEGIN:DAYLIGHT
TZOFFSETFROM:-0800
TZOFFSETTO:-0700
TZNAME:PDT
DTSTART:20260308T100000
END:DAYLIGHT
BEGIN:STANDARD
TZOFFSETFROM:-0700
TZOFFSETTO:-0800
TZNAME:PST
DTSTART:20261101T090000
END:STANDARD
BEGIN:DAYLIGHT
TZOFFSETFROM:-0800
TZOFFSETTO:-0700
TZNAME:PDT
DTSTART:20270314T100000
END:DAYLIGHT
BEGIN:STANDARD
TZOFFSETFROM:-0700
TZOFFSETTO:-0800
TZNAME:PST
DTSTART:20271107T090000
END:STANDARD
END:VTIMEZONE
BEGIN:VEVENT
DTSTART;TZID=America/Los_Angeles:20260602T080000
DTEND;TZID=America/Los_Angeles:20260602T150000
DTSTAMP:20260421T014153
CREATED:20260409T073934Z
LAST-MODIFIED:20260409T073934Z
UID:843-1780387200-1780412400@ev-markus-kita.de
SUMMARY:Ausflug zur ZOOM Erlebniswelt der Sonnengruppe
DESCRIPTION:Ausflug der Kinder aus der Sonnengruppe zur ZOOM Erlebniswelt.
URL:https://ev-markus-kita.de/event/ausflug-zur-zoom-erlebniswelt-der-sonnengruppe/
END:VEVENT
BEGIN:VEVENT
DTSTART;TZID=America/Los_Angeles:20260611T143000
DTEND;TZID=America/Los_Angeles:20260611T160000
DTSTAMP:20260421T014153
CREATED:20260409T074115Z
LAST-MODIFIED:20260409T074127Z
UID:845-1781188200-1781193600@ev-markus-kita.de
SUMMARY:Offene Sprechstunde
DESCRIPTION:Offene Sprechstunde mit Frau Janssen
URL:https://ev-markus-kita.de/event/offene-sprechstunde/
END:VEVENT
BEGIN:VEVENT
DTSTART;TZID=America/Los_Angeles:20260616T093000
DTEND;TZID=America/Los_Angeles:20260616T100000
DTSTAMP:20260421T014153
CREATED:20260409T074236Z
LAST-MODIFIED:20260409T074236Z
UID:848-1781602200-1781604000@ev-markus-kita.de
SUMMARY:Andacht
DESCRIPTION:Andacht mit Pastor Sieblod
URL:https://ev-markus-kita.de/event/andacht-2/
END:VEVENT
END:VCALENDAR