BEGIN:VCALENDAR
VERSION:2.0
PRODID:-//Markus Kindergarten - ECPv6.15.20//NONSGML v1.0//EN
CALSCALE:GREGORIAN
METHOD:PUBLISH
X-WR-CALNAME:Markus Kindergarten
X-ORIGINAL-URL:https://ev-markus-kita.de
X-WR-CALDESC:Veranstaltungen für Markus Kindergarten
REFRESH-INTERVAL;VALUE=DURATION:PT1H
X-Robots-Tag:noindex
X-PUBLISHED-TTL:PT1H
BEGIN:VTIMEZONE
TZID:America/Los_Angeles
BEGIN:DAYLIGHT
TZOFFSETFROM:-0800
TZOFFSETTO:-0700
TZNAME:PDT
DTSTART:20250309T100000
END:DAYLIGHT
BEGIN:STANDARD
TZOFFSETFROM:-0700
TZOFFSETTO:-0800
TZNAME:PST
DTSTART:20251102T090000
END:STANDARD
BEGIN:DAYLIGHT
TZOFFSETFROM:-0800
TZOFFSETTO:-0700
TZNAME:PDT
DTSTART:20260308T100000
END:DAYLIGHT
BEGIN:STANDARD
TZOFFSETFROM:-0700
TZOFFSETTO:-0800
TZNAME:PST
DTSTART:20261101T090000
END:STANDARD
BEGIN:DAYLIGHT
TZOFFSETFROM:-0800
TZOFFSETTO:-0700
TZNAME:PDT
DTSTART:20270314T100000
END:DAYLIGHT
BEGIN:STANDARD
TZOFFSETFROM:-0700
TZOFFSETTO:-0800
TZNAME:PST
DTSTART:20271107T090000
END:STANDARD
END:VTIMEZONE
BEGIN:VEVENT
DTSTART;TZID=America/Los_Angeles:20260421T093000
DTEND;TZID=America/Los_Angeles:20260421T110000
DTSTAMP:20260421T025102
CREATED:20260209T175953Z
LAST-MODIFIED:20260407T085427Z
UID:803-1776763800-1776769200@ev-markus-kita.de
SUMMARY:Schulbesuch mit den Schulanfängern 2026 in der Josef-Rings-Schule
DESCRIPTION:
URL:https://ev-markus-kita.de/event/schulbesuch-mit-den-schulanfaengern-2026-in-der-josef-rings-schule/
END:VEVENT
END:VCALENDAR